BEGIN:VCALENDAR
VERSION:2.0
PRODID:-//cefva.org//NONSGML kigkonsult.se iCalcreator 2.30.10//
CALSCALE:GREGORIAN
METHOD:PUBLISH
UID:af50e2e9-44a6-43e5-9657-16597f80f686
X-WR-CALDESC:Join us for our final Spring Report Card of the season! Dr. Da
 ugherty will be there\, and we will be on the lovely patio at Towne Bank. 
 Learn more about our mission and upcoming opportunities to support The Che
 sterfield Education Foundation.\n\nThanks to the generosity of many indivi
 duals\, businesses\, and foundations\, CEF deploys over $400\,000 every ye
 ar to support Chesterfield County Public Schools. Join us for a special ga
 thering to hear more about the pilot programs and innovative learning oppo
 rtunities our mission makes possible. \n\nThe powerful impact of community
  support! \n
X-WR-RELCALID:4e3bda3a4ff4d10b11c9a759a33db335
X-WR-TIMEZONE:America/New_York
BEGIN:VTIMEZONE
TZID:America/New_York
BEGIN:STANDARD
TZNAME:EST
DTSTART:20231105T020000
TZOFFSETFROM:-0400
TZOFFSETTO:-0500
RDATE:20241103T020000
RDATE:20251102T020000
END:STANDARD
BEGIN:DAYLIGHT
TZNAME:EDT
DTSTART:20240310T020000
TZOFFSETFROM:-0500
TZOFFSETTO:-0400
RDATE:20250309T020000
END:DAYLIGHT
END:VTIMEZONE
BEGIN:VEVENT
UID:1ff3958e-69dc-42e1-a05d-4207b8cf166f
DTSTAMP:20260421T151948Z
DESCRIPTION:Join us for our final Spring Report Card of the season! Dr. Dau
 gherty will be there\, and we will be on the lovely patio at Towne Bank. L
 earn more about our mission and upcoming opportunities to support The Ches
 terfield Education Foundation.\n\nThanks to the generosity of many individ
 uals\, businesses\, and foundations\, CEF deploys over $400\,000 every yea
 r to support Chesterfield County Public Schools. Join us for a special gat
 hering to hear more about the pilot programs and innovative learning oppor
 tunities our mission makes possible. \n\nThe powerful impact of community 
 support! \n
DTSTART;TZID=America/New_York:20240610T173000
DTEND;TZID=America/New_York:20240610T190000
LOCATION:TowneBank\, 9961 Iron Bridge Rd\, Chesterfield\, AL 23832 US
SUMMARY:Spring Report Card
END:VEVENT
END:VCALENDAR
