BEGIN:VCALENDAR
VERSION:2.0
PRODID:-//cefva.org//NONSGML kigkonsult.se iCalcreator 2.30.10//
CALSCALE:GREGORIAN
METHOD:PUBLISH
UID:d91ffaaa-3c3d-4241-8cc4-b8f054efa7b3
X-WR-CALDESC:Join Chesterfield County Public Schools in partnership with th
 e Chesterfield Education Foundation in celebrating Dr. Merv Daugherty’s te
 nure as the superintendent of CCPS with a unique twist: Dr. D’s Retirement
  Book Bash fundraiser! The celebration will include food\, drinks*\, a raf
 fle and fund-a-need online auction\, book giveaways\, and opportunities to
  learn more about the many ways we can foster a love of reading for Cheste
 rfield students. Funds raised will support CEF's literacy programs. *altho
 ugh we love kids\, this is an adults-only event.\n\nThis event is not just
  about bidding farewell\; it’s about creating a lasting impact by raising 
 funds to put books into student homes. Your support of this effort will en
 sure that children in Chesterfield County have access to this invaluable r
 esource\, fostering a love for reading and building home libraries that ar
 e crucial for academic success. Let’s come together to honor Dr. Daugherty
 ’s legacy while making a tangible difference in the lives of our community
 ’s young learners.
X-WR-RELCALID:5ee30fb0fe7ba4bdfd0c7b9825cf0ad7
X-WR-TIMEZONE:America/New_York
BEGIN:VTIMEZONE
TZID:America/New_York
BEGIN:STANDARD
TZNAME:EST
DTSTART:20231105T020000
TZOFFSETFROM:-0400
TZOFFSETTO:-0500
RDATE:20241103T020000
RDATE:20251102T020000
END:STANDARD
BEGIN:DAYLIGHT
TZNAME:EDT
DTSTART:20240310T020000
TZOFFSETFROM:-0500
TZOFFSETTO:-0400
RDATE:20250309T020000
END:DAYLIGHT
END:VTIMEZONE
BEGIN:VEVENT
UID:cdd8166f-fe95-43b7-85b4-9993336ecc21
DTSTAMP:20260421T152750Z
DESCRIPTION:Join Chesterfield County Public Schools in partnership with the
  Chesterfield Education Foundation in celebrating Dr. Merv Daugherty’s ten
 ure as the superintendent of CCPS with a unique twist: Dr. D’s Retirement 
 Book Bash fundraiser! The celebration will include food\, drinks*\, a raff
 le and fund-a-need online auction\, book giveaways\, and opportunities to 
 learn more about the many ways we can foster a love of reading for Chester
 field students. Funds raised will support CEF's literacy programs. *althou
 gh we love kids\, this is an adults-only event.\n\nThis event is not just 
 about bidding farewell\; it’s about creating a lasting impact by raising f
 unds to put books into student homes. Your support of this effort will ens
 ure that children in Chesterfield County have access to this invaluable re
 source\, fostering a love for reading and building home libraries that are
  crucial for academic success. Let’s come together to honor Dr. Daugherty’
 s legacy while making a tangible difference in the lives of our community’
 s young learners.
DTSTART;TZID=America/New_York:20240613T180000
DTEND;TZID=America/New_York:20240613T203000
LOCATION:The Hidden Oaks
SUMMARY:Dr. Daugherty's Book Bash!
END:VEVENT
END:VCALENDAR
