BEGIN:VCALENDAR
VERSION:2.0
PRODID:-//cefva.org//NONSGML kigkonsult.se iCalcreator 2.30.10//
CALSCALE:GREGORIAN
METHOD:PUBLISH
UID:2f53990b-f353-4cd5-900e-f94644f8fbd7
X-WR-CALDESC:During this event\, each child in attendance from birth throug
 h high school will select 3 to 5 books to add to their home libraries. Add
 itionally\, attendees will enjoy activities\, cultural performances\, a mo
 bile exhibit from the Children’s Museum of Richmond\, music\, food\, and m
 ore. This free event will be held Tuesday\, July 9 from 5-8:30 p.m. at the
  Chesterfield County Fairgrounds. Chesterfield County Public Schools will 
 host the event in partnership with the Chesterfield Education Foundation a
 nd Dominion Energy.
X-WR-RELCALID:42a4b039e7153e3933926afe03ce38ef
X-WR-TIMEZONE:America/New_York
BEGIN:VTIMEZONE
TZID:America/New_York
BEGIN:STANDARD
TZNAME:EST
DTSTART:20231105T020000
TZOFFSETFROM:-0400
TZOFFSETTO:-0500
RDATE:20241103T020000
RDATE:20251102T020000
END:STANDARD
BEGIN:DAYLIGHT
TZNAME:EDT
DTSTART:20240310T020000
TZOFFSETFROM:-0500
TZOFFSETTO:-0400
RDATE:20250309T020000
END:DAYLIGHT
END:VTIMEZONE
BEGIN:VEVENT
UID:bc9d6469-416e-4a62-a6bf-b2732a5a5e83
DTSTAMP:20260421T134839Z
DESCRIPTION:During this event\, each child in attendance from birth through
  high school will select 3 to 5 books to add to their home libraries. Addi
 tionally\, attendees will enjoy activities\, cultural performances\, a mob
 ile exhibit from the Children’s Museum of Richmond\, music\, food\, and mo
 re. This free event will be held Tuesday\, July 9 from 5-8:30 p.m. at the 
 Chesterfield County Fairgrounds. Chesterfield County Public Schools will h
 ost the event in partnership with the Chesterfield Education Foundation an
 d Dominion Energy.
DTSTART;TZID=America/New_York:20240709T170000
DTEND;TZID=America/New_York:20240709T203000
LOCATION:Chesterfield County Fairgrounds\, 10300 Courthouse Rd\, Chesterfie
 ld\, VA 23832 US
SUMMARY:El Librotazo
END:VEVENT
END:VCALENDAR
