BEGIN:VCALENDAR
VERSION:2.0
PRODID:-//cefva.org//NONSGML kigkonsult.se iCalcreator 2.30.10//
CALSCALE:GREGORIAN
METHOD:PUBLISH
UID:80cec423-f6d5-4d57-a1a7-3efa2b6b30fd
X-WR-CALDESC:Join us in celebrating our 2024 BRAVO winners!
X-WR-RELCALID:54d22ab7f203cb3dcae8a3edb664c72b
X-WR-TIMEZONE:America/New_York
BEGIN:VTIMEZONE
TZID:America/New_York
BEGIN:STANDARD
TZNAME:EST
DTSTART:20231105T020000
TZOFFSETFROM:-0400
TZOFFSETTO:-0500
RDATE:20241103T020000
RDATE:20251102T020000
END:STANDARD
BEGIN:DAYLIGHT
TZNAME:EDT
DTSTART:20240310T020000
TZOFFSETFROM:-0500
TZOFFSETTO:-0400
RDATE:20250309T020000
RDATE:20260308T020000
END:DAYLIGHT
END:VTIMEZONE
BEGIN:VEVENT
UID:2ef50288-ccbe-4e17-a8c2-248dda71a996
DTSTAMP:20260423T083125Z
DESCRIPTION:Join us in celebrating our 2024 BRAVO winners!
DTSTART;TZID=America/New_York:20241012T180000
DTEND;TZID=America/New_York:20241012T210000
LOCATION:Perkinson Center\, 11810 Centre Street\, Chester\, VA 23831 US
SUMMARY:BRAVO!
END:VEVENT
END:VCALENDAR
