BEGIN:VCALENDAR
VERSION:2.0
PRODID:-//cefva.org//NONSGML kigkonsult.se iCalcreator 2.30.10//
CALSCALE:GREGORIAN
METHOD:PUBLISH
UID:1f9883cf-0c44-4118-876a-15c312bdb19a
X-WR-CALDESC:Join us at the Westchester Concert Series and support The Ches
 terfield Education Foundation! We also need volunteers! If you want to hel
 p out\, let us know!
X-WR-RELCALID:b1a8652382f2cfefcdf5e977bedabf6f
X-WR-TIMEZONE:America/New_York
BEGIN:VTIMEZONE
TZID:America/New_York
BEGIN:STANDARD
TZNAME:EST
DTSTART:20251102T020000
TZOFFSETFROM:-0400
TZOFFSETTO:-0500
RDATE:20261101T020000
RDATE:20271107T020000
END:STANDARD
BEGIN:DAYLIGHT
TZNAME:EDT
DTSTART:20260308T020000
TZOFFSETFROM:-0500
TZOFFSETTO:-0400
RDATE:20270314T020000
END:DAYLIGHT
END:VTIMEZONE
BEGIN:VEVENT
UID:8fbfe8ab-50f4-4ad0-bc2d-af19bf9b2d59
DTSTAMP:20260420T100155Z
DESCRIPTION:Join us at the Westchester Concert Series and support The Chest
 erfield Education Foundation! We also need volunteers! If you want to help
  out\, let us know!
DTSTART;TZID=America/New_York:20260806T173000
DTEND;TZID=America/New_York:20260806T203000
LOCATION:15786 WC Main St\, Midlothian\, VA 23113 US
SUMMARY:Westchester Concert Series
END:VEVENT
END:VCALENDAR
